BEGIN:VCALENDAR
VERSION:2.0
PRODID:-//Nammude Kozhikkode - ECPv6.2.0.1//NONSGML v1.0//EN
CALSCALE:GREGORIAN
METHOD:PUBLISH
X-WR-CALNAME:Nammude Kozhikkode
X-ORIGINAL-URL:https://nammadekozhikodeuk.com
X-WR-CALDESC:Events for Nammude Kozhikkode
REFRESH-INTERVAL;VALUE=DURATION:PT1H
X-Robots-Tag:noindex
X-PUBLISHED-TTL:PT1H
BEGIN:VTIMEZONE
TZID:UTC
BEGIN:STANDARD
TZOFFSETFROM:+0000
TZOFFSETTO:+0000
TZNAME:UTC
DTSTART:20230101T000000
END:STANDARD
END:VTIMEZONE
BEGIN:VEVENT
DTSTART;TZID=UTC:20230903T113000
DTEND;TZID=UTC:20230903T170000
DTSTAMP:20260423T115700
CREATED:20230822T113346Z
LAST-MODIFIED:20231013T064311Z
UID:17468-1693740600-1693760400@nammadekozhikodeuk.com
SUMMARY:Oru Kozhikkodan Onam
DESCRIPTION:Celebrate this ONAM with the bigget community of Kozhikottukar in UK. \n 
URL:https://nammadekozhikodeuk.com/event/oru-kozhikkodan-onam/
LOCATION:Location :\, Linmere Farmstead\, Bedordshire\, LU5 5GX\, United Kingdom
ATTACH;FMTTYPE=image/jpeg:https://nammadekozhikodeuk.com/wp-content/uploads/2023/08/onam-event.jpg
END:VEVENT
END:VCALENDAR