BEGIN:VCALENDAR
VERSION:2.0
PRODID:-//Nammude Kozhikkode - ECPv6.2.0.1//NONSGML v1.0//EN
CALSCALE:GREGORIAN
METHOD:PUBLISH
X-WR-CALNAME:Nammude Kozhikkode
X-ORIGINAL-URL:https://nammadekozhikodeuk.com
X-WR-CALDESC:Events for Nammude Kozhikkode
REFRESH-INTERVAL;VALUE=DURATION:PT1H
X-Robots-Tag:noindex
X-PUBLISHED-TTL:PT1H
BEGIN:VTIMEZONE
TZID:UTC
BEGIN:STANDARD
TZOFFSETFROM:+0000
TZOFFSETTO:+0000
TZNAME:UTC
DTSTART:20220101T000000
END:STANDARD
END:VTIMEZONE
BEGIN:VEVENT
DTSTART;VALUE=DATE:20221009
DTEND;VALUE=DATE:20221010
DTSTAMP:20260423T234210
CREATED:20230715T071212Z
LAST-MODIFIED:20231013T094649Z
UID:17212-1665273600-1665359999@nammadekozhikodeuk.com
SUMMARY:Sangamam 2022
DESCRIPTION:
URL:https://nammadekozhikodeuk.com/event/sangamam-2022/
LOCATION:Caroline Chisholam School\, Caroline Chisholam School\, Northampton\, NN4 6TP\, United Kingdom
ATTACH;FMTTYPE=image/jpeg:https://nammadekozhikodeuk.com/wp-content/uploads/2023/07/event5.jpg
END:VEVENT
END:VCALENDAR