BEGIN:VCALENDAR
VERSION:2.0
PRODID:-//Nammude Kozhikkode - ECPv6.2.0.1//NONSGML v1.0//EN
CALSCALE:GREGORIAN
METHOD:PUBLISH
X-WR-CALNAME:Nammude Kozhikkode
X-ORIGINAL-URL:https://nammadekozhikodeuk.com
X-WR-CALDESC:Events for Nammude Kozhikkode
REFRESH-INTERVAL;VALUE=DURATION:PT1H
X-Robots-Tag:noindex
X-PUBLISHED-TTL:PT1H
BEGIN:VTIMEZONE
TZID:UTC
BEGIN:STANDARD
TZOFFSETFROM:+0000
TZOFFSETTO:+0000
TZNAME:UTC
DTSTART:20220101T000000
END:STANDARD
END:VTIMEZONE
BEGIN:VEVENT
DTSTART;TZID=UTC:20240531T080000
DTEND;TZID=UTC:20240531T170000
DTSTAMP:20260422T221628
CREATED:20240517T151042Z
LAST-MODIFIED:20240517T151334Z
UID:18502-1717142400-1717174800@nammadekozhikodeuk.com
SUMMARY:Alumni Meet 2024
DESCRIPTION:“Join us for an unforgettable evening of music\, food\, and fun! Don’t miss out on the excitement. See you there!” \n \n“Join us for an unforgettable evening of music\, food\, and fun! Don’t miss out on the excitement. See you there!”
URL:https://nammadekozhikodeuk.com/event/alumni-meet-2024/
LOCATION:Grand Hyat kochi\, India
ATTACH;FMTTYPE=image/jpeg:https://nammadekozhikodeuk.com/wp-content/uploads/2023/10/concert-3387324_1280.jpg
END:VEVENT
BEGIN:VEVENT
DTSTART;VALUE=DATE:20240331
DTEND;VALUE=DATE:20240401
DTSTAMP:20260422T221628
CREATED:20240316T112959Z
LAST-MODIFIED:20240316T112959Z
UID:18344-1711843200-1711929599@nammadekozhikodeuk.com
SUMMARY:Onam Celebrations 2024
DESCRIPTION:
URL:https://nammadekozhikodeuk.com/event/onam-celebrations-2024/
LOCATION:London hall
END:VEVENT
BEGIN:VEVENT
DTSTART;TZID=UTC:20240116T000000
DTEND;TZID=UTC:20240116T235900
DTSTAMP:20260422T221628
CREATED:20240114T062347Z
LAST-MODIFIED:20240114T062819Z
UID:18298-1705363200-1705449540@nammadekozhikodeuk.com
SUMMARY:Upcoming Event 3
DESCRIPTION:Upcoming Event 3
URL:https://nammadekozhikodeuk.com/event/upcoming-event-3/
ATTACH;FMTTYPE=image/jpeg:https://nammadekozhikodeuk.com/wp-content/uploads/2021/05/skr-about.jpg
END:VEVENT
BEGIN:VEVENT
DTSTART;VALUE=DATE:20240114
DTEND;VALUE=DATE:20240123
DTSTAMP:20260422T221628
CREATED:20240113T163325Z
LAST-MODIFIED:20240114T062039Z
UID:18214-1705190400-1705967999@nammadekozhikodeuk.com
SUMMARY:Upcoming Events 2
DESCRIPTION:Upcoming Events 1
URL:https://nammadekozhikodeuk.com/event/upcoming-events-1-2/
ATTACH;FMTTYPE=image/jpeg:https://nammadekozhikodeuk.com/wp-content/uploads/2023/10/concert-3387324_1280.jpg
END:VEVENT
BEGIN:VEVENT
DTSTART;TZID=UTC:20240113T080000
DTEND;TZID=UTC:20240116T170000
DTSTAMP:20260422T221628
CREATED:20240113T162843Z
LAST-MODIFIED:20240113T163648Z
UID:18212-1705132800-1705424400@nammadekozhikodeuk.com
SUMMARY:Upcoming Events 1
DESCRIPTION:Upcoming Events 1
URL:https://nammadekozhikodeuk.com/event/upcoming-events-1/
ATTACH;FMTTYPE=image/jpeg:https://nammadekozhikodeuk.com/wp-content/uploads/2023/10/fireworks-4768501_1280.jpg
END:VEVENT
BEGIN:VEVENT
DTSTART;TZID=UTC:20240112T000000
DTEND;TZID=UTC:20240120T235900
DTSTAMP:20260422T221628
CREATED:20231005T091405Z
LAST-MODIFIED:20240113T163055Z
UID:17679-1705017600-1705795140@nammadekozhikodeuk.com
SUMMARY:Mananchira Fest'23
DESCRIPTION:We would like to invite you to the second Annual Meet of Nammade Kozhikode UK \, Which is Named as ‘Mananchira Fest’23’ \nEvent will Start with delicious lunch which is included in the ticket price\, Followed by Inauguration and Cultural Programmes.  There would be live performance from the popular Bollywood Singer Mr Fahad. \nHearty welcome to one and all to Nammade Kozhikode in UK. Kindly come and share the happiness. \nRegister your participation here: \nhttps://docs.google.com/forms/d/e/1FAIpQLSfCvNSfM94YJb-b-9OI5N4Gk8RsLdqvol-FcDSx8kofLJSHHA/viewform?usp=sf_link
URL:https://nammadekozhikodeuk.com/event/mananchira-fest23/
LOCATION:Caroline Chisholam School\, Caroline Chisholam School\, Northampton\, NN4 6TP\, United Kingdom
ATTACH;FMTTYPE=image/jpeg:https://nammadekozhikodeuk.com/wp-content/uploads/2023/10/mananjira-fest.jpeg
END:VEVENT
BEGIN:VEVENT
DTSTART;TZID=UTC:20230903T113000
DTEND;TZID=UTC:20230903T170000
DTSTAMP:20260422T221628
CREATED:20230822T113346Z
LAST-MODIFIED:20231013T064311Z
UID:17468-1693740600-1693760400@nammadekozhikodeuk.com
SUMMARY:Oru Kozhikkodan Onam
DESCRIPTION:Celebrate this ONAM with the bigget community of Kozhikottukar in UK. \n 
URL:https://nammadekozhikodeuk.com/event/oru-kozhikkodan-onam/
LOCATION:Location :\, Linmere Farmstead\, Bedordshire\, LU5 5GX\, United Kingdom
ATTACH;FMTTYPE=image/jpeg:https://nammadekozhikodeuk.com/wp-content/uploads/2023/08/onam-event.jpg
END:VEVENT
BEGIN:VEVENT
DTSTART;TZID=UTC:20230625T110000
DTEND;TZID=UTC:20230625T190000
DTSTAMP:20260422T221628
CREATED:20230610T001103Z
LAST-MODIFIED:20231009T093037Z
UID:17384-1687690800-1687719600@nammadekozhikodeuk.com
SUMMARY:Kalikkalam 2023
DESCRIPTION:Fun sports & Food Fest. \nTug of war\, Sack race\, Musical Chair\, Andhakshari & Many More. \n 
URL:https://nammadekozhikodeuk.com/event/kalikkalam-2023/
LOCATION:Leverstock green village hall\, Hemel Hempstead\, HP3 8QG\, United Kingdom
ATTACH;FMTTYPE=image/jpeg:https://nammadekozhikodeuk.com/wp-content/uploads/2023/07/event1.jpg
END:VEVENT
BEGIN:VEVENT
DTSTART;VALUE=DATE:20230625
DTEND;VALUE=DATE:20230626
DTSTAMP:20260422T221628
CREATED:20230810T053023Z
LAST-MODIFIED:20230810T090323Z
UID:17402-1687651200-1687737599@nammadekozhikodeuk.com
SUMMARY:Kalikkalam Food stall
DESCRIPTION:Stall 1 : \nAll varieties of DOSAS . \nUzhunnu vada \nChips \nChicken Nuggets \n2 Porotta with chana \nBeef fry with porotta \nKothu porotta \nChicken 65 \nStall 2 : \nWall \nAll cans \nTea/Coffee \nParippu vada \nMutton roll \nPazham pori \nJuices \nAll varieties of milk shakes \nNannari surbath \nKulukki sarbath \nStall 3: \nBeef cutlet \nChicken roll \nUnnakkaya \nPazham nirachathu \nChattipathiri \nKallummakkaya \nVettucake \nNeyyappam \nEgg puffs \nFootball chicken \nChicken lollipop \nSamosa \n  \n 
URL:https://nammadekozhikodeuk.com/event/kalikkalam-food-stall/
LOCATION:Leverstock green village hall\, Hemel Hempstead\, HP3 8QG\, United Kingdom
ATTACH;FMTTYPE=image/jpeg:https://nammadekozhikodeuk.com/wp-content/uploads/2023/07/event3.jpg
END:VEVENT
BEGIN:VEVENT
DTSTART;TZID=UTC:20230108T140000
DTEND;TZID=UTC:20230108T180000
DTSTAMP:20260422T221628
CREATED:20230810T085907Z
LAST-MODIFIED:20231013T062800Z
UID:17407-1673186400-1673200800@nammadekozhikodeuk.com
SUMMARY:Nilamazha
DESCRIPTION:Nammade Kozhikkode & EXL- UK \nTITLE SPONSOR : MUSTHAFA KITCHEN \n 
URL:https://nammadekozhikodeuk.com/event/nilamazha/
LOCATION:Sudbury Primary School\, Wembley\, United Kingdom
ATTACH;FMTTYPE=image/jpeg:https://nammadekozhikodeuk.com/wp-content/uploads/2023/08/Music-Event_Malayalam-scaled.jpg
END:VEVENT
BEGIN:VEVENT
DTSTART;VALUE=DATE:20221009
DTEND;VALUE=DATE:20221010
DTSTAMP:20260422T221628
CREATED:20230715T071212Z
LAST-MODIFIED:20231013T094649Z
UID:17212-1665273600-1665359999@nammadekozhikodeuk.com
SUMMARY:Sangamam 2022
DESCRIPTION:
URL:https://nammadekozhikodeuk.com/event/sangamam-2022/
LOCATION:Caroline Chisholam School\, Caroline Chisholam School\, Northampton\, NN4 6TP\, United Kingdom
ATTACH;FMTTYPE=image/jpeg:https://nammadekozhikodeuk.com/wp-content/uploads/2023/07/event5.jpg
END:VEVENT
END:VCALENDAR