BEGIN:VCALENDAR
VERSION:2.0
PRODID:-//Nammude Kozhikkode - ECPv6.2.0.1//NONSGML v1.0//EN
CALSCALE:GREGORIAN
METHOD:PUBLISH
X-ORIGINAL-URL:https://nammadekozhikodeuk.com
X-WR-CALDESC:Events for Nammude Kozhikkode
REFRESH-INTERVAL;VALUE=DURATION:PT1H
X-Robots-Tag:noindex
X-PUBLISHED-TTL:PT1H
BEGIN:VTIMEZONE
TZID:UTC
BEGIN:STANDARD
TZOFFSETFROM:+0000
TZOFFSETTO:+0000
TZNAME:UTC
DTSTART:20240101T000000
END:STANDARD
END:VTIMEZONE
BEGIN:VEVENT
DTSTART;VALUE=DATE:20240331
DTEND;VALUE=DATE:20240401
DTSTAMP:20260423T104654
CREATED:20240316T112959Z
LAST-MODIFIED:20240316T112959Z
UID:18344-1711843200-1711929599@nammadekozhikodeuk.com
SUMMARY:Onam Celebrations 2024
DESCRIPTION:
URL:https://nammadekozhikodeuk.com/event/onam-celebrations-2024/
LOCATION:London hall
END:VEVENT
BEGIN:VEVENT
DTSTART;TZID=UTC:20240531T080000
DTEND;TZID=UTC:20240531T170000
DTSTAMP:20260423T104654
CREATED:20240517T151042Z
LAST-MODIFIED:20240517T151334Z
UID:18502-1717142400-1717174800@nammadekozhikodeuk.com
SUMMARY:Alumni Meet 2024
DESCRIPTION:“Join us for an unforgettable evening of music\, food\, and fun! Don’t miss out on the excitement. See you there!” \n \n“Join us for an unforgettable evening of music\, food\, and fun! Don’t miss out on the excitement. See you there!”
URL:https://nammadekozhikodeuk.com/event/alumni-meet-2024/
LOCATION:Grand Hyat kochi\, India
ATTACH;FMTTYPE=image/jpeg:https://nammadekozhikodeuk.com/wp-content/uploads/2023/10/concert-3387324_1280.jpg
END:VEVENT
END:VCALENDAR