BEGIN:VCALENDAR
VERSION:2.0
PRODID:-//Nammude Kozhikkode - ECPv6.2.0.1//NONSGML v1.0//EN
CALSCALE:GREGORIAN
METHOD:PUBLISH
X-WR-CALNAME:Nammude Kozhikkode
X-ORIGINAL-URL:https://nammadekozhikodeuk.com
X-WR-CALDESC:Events for Nammude Kozhikkode
REFRESH-INTERVAL;VALUE=DURATION:PT1H
X-Robots-Tag:noindex
X-PUBLISHED-TTL:PT1H
BEGIN:VTIMEZONE
TZID:UTC
BEGIN:STANDARD
TZOFFSETFROM:+0000
TZOFFSETTO:+0000
TZNAME:UTC
DTSTART:20230101T000000
END:STANDARD
END:VTIMEZONE
BEGIN:VEVENT
DTSTART;TZID=UTC:20230108T140000
DTEND;TZID=UTC:20230108T180000
DTSTAMP:20260423T200317
CREATED:20230810T085907Z
LAST-MODIFIED:20231013T062800Z
UID:17407-1673186400-1673200800@nammadekozhikodeuk.com
SUMMARY:Nilamazha
DESCRIPTION:Nammade Kozhikkode & EXL- UK \nTITLE SPONSOR : MUSTHAFA KITCHEN \n 
URL:https://nammadekozhikodeuk.com/event/nilamazha/
LOCATION:Sudbury Primary School\, Wembley\, United Kingdom
ATTACH;FMTTYPE=image/jpeg:https://nammadekozhikodeuk.com/wp-content/uploads/2023/08/Music-Event_Malayalam-scaled.jpg
END:VEVENT
END:VCALENDAR